BEGIN:VCALENDAR
VERSION:2.0
PRODID:-//Tukios.com/
BEGIN:VEVENT
UID:b542db68-6d20-409c-adbe-92a8307788e8@www.riplingerfuneralhome.com
DTSTAMP:20260421T215351Z
DTSTART:20260425T210000Z
DTEND:20260426T030000Z
SUMMARY:Celebration & Frisbee Golf
DESCRIPTION:Join the family for a game of Frisbee Golf in Robert's honor.
URL:https://www.riplingerfuneralhome.com/obituaries/robert-nix
LOCATION:Corbin Park 896 S Corbin Rd  Post Falls ID 83854
GEO:47.7035986;-116.9900232
END:VEVENT
END:VCALENDAR