BEGIN:VCALENDAR
VERSION:2.0
PRODID:-//Tukios.com/
BEGIN:VEVENT
UID:6d5083e6-3001-4e02-a8ed-9216cf0e4014@www.riplingerfuneralhome.com
DTSTAMP:20260421T215110Z
DTSTART:20260425T180000Z
DTEND:20260425T190000Z
SUMMARY:Memorial Service
DESCRIPTION:
URL:https://www.riplingerfuneralhome.com/obituaries/robert-nix
LOCATION: 4305 N. Division St.  Spokane WA 99207
GEO:47.6976991;-117.4121109
END:VEVENT
END:VCALENDAR